BEGIN:VCALENDAR
VERSION:2.0
PRODID:-//hacksw/handcal//NONSGML v1.0//EN
BEGIN:VEVENT
SUMMARY:Assemblee generale 2026
UID:374519e7-9793-478f-afcd-fc6db708b9de
DTSTART:20260614T083000Z
DTEND:20260614T220000Z
LOCATION:Localisation   
CATEGORIES:Administratif
STATUS:
URL;VALUE=URI:https://www.kelted.com/evenements/2026/06/14/assemblee-generale-2026-2425339
END:VEVENT
END:VCALENDAR
